BEGIN:VCALENDAR
VERSION:2.0
PRODID:-//PP Calendar//WordPress//EN
CALSCALE:GREGORIAN
METHOD:PUBLISH
BEGIN:VEVENT
UID:cab9b27b60c38272277d03907eb3e2f0@petropages.com
DTSTAMP:20260422T021434Z
DTSTART:20260416T170000Z
DTEND:20260416T200000Z
SUMMARY:Schafer’s Industry Night: Sparkling Clear Industries
LOCATION:Gulf Coast\, Schafer’s Coastal Bar & Grille - 1002 Aspen Rd\, Clear Lake Shores\, TX 77565
DESCRIPTION:Schafer’s Coastal Bar &amp\; Grille will be hosting its Industry Night in the upstairs bar from 5:00pm to 8:00pm. This weeks event will be hosted by Sparkling Clear Industries. Industry Night is a relaxed networking event focused on the oil &amp\; gas\, petrochemical\, and energy sectors where you can come and go as you please\, no registration required!\\n\\n\\n\\nSchafer’s Coastal Bar and Grille is an upscale sports bar located in Clear Lake Shores\, Texas. Schafer’s hosts Oil &amp\; Gas Industry Night\, every Thursday night in its upstairs bar\, providing an excellent place for professionals in the industry to connect and mingle.\\n\\nhttps://petropages.com/event/schafers-industry-night-sparkling-clear-industries/
URL:https://petropages.com/event/schafers-industry-night-sparkling-clear-industries/
END:VEVENT
END:VCALENDAR
