BEGIN:VCALENDAR
VERSION:2.0
PRODID:-//PP Calendar//WordPress//EN
CALSCALE:GREGORIAN
METHOD:PUBLISH
BEGIN:VEVENT
UID:c4fdbf01ead25822c046e1a91ee53ca1@petropages.com
DTSTAMP:20260422T020952Z
DTSTART:20260416T180000Z
DTEND:20260416T210000Z
SUMMARY:SAPA 2026 Midstream Open Mixer
LOCATION:Central Texas\, Hyatt Hill Country Resort\, 9800 Hyatt Resort Dr\, San Antonio\, TX 78251
DESCRIPTION:Join the San Antonio Pipeliners Association (SAPA) for its Midstream Open Mixer at Hyatt Hill Country Resort! This event leads up to the Midstream Open Golf Tournament on Friday\, April 17th. TWO drink tokens will be available per registered person\, with additional drinks available for purchase at the bar.\\n\\n\\n\\nThe San Antonio Pipeliners Association (SAPA) provides an opportunity for "peer-to-peer" networking for men and women involved in the pipeline and midstream industries. SAPA hosts monthly meetings and events involving networking\, a buffet\, and a speaker.\\n\\nhttps://petropages.com/event/sapa-2026-midstream-open-mixer/
URL:https://petropages.com/event/sapa-2026-midstream-open-mixer/
END:VEVENT
END:VCALENDAR
