BEGIN:VCALENDAR
VERSION:2.0
PRODID:-//PP Calendar//WordPress//EN
CALSCALE:GREGORIAN
METHOD:PUBLISH
BEGIN:VEVENT
UID:37f26b5efc04edd41246cfae7d5871f1@petropages.com
DTSTAMP:20260422T021059Z
DTSTART:20260417T060000Z
DTEND:20260417T160000Z
SUMMARY:SAPA 2026 Midstream Open Golf Tournament
LOCATION:Central Texas\, Hyatt Regency Hill Country Resort\, 9800 Hyatt Resort Dr.\, San Antonio\, TX
DESCRIPTION:Join the San Antonio Pipeliners Association (SAPA) for a day of networking and golf in support of the Midstream America Scholarship Fund (MASF). This event features golfing at one of San Antonio’s premier golf courses\, networking with industry professionals\, and an opportunity to help fundraise for a great cause!\\n\\n\\n\\nThe San Antonio Pipeliners Association (SAPA) provides an opportunity for "peer-to-peer" networking for men and women involved in the pipeline and midstream industries. SAPA hosts monthly meetings and events involving networking\, a buffet\, and a speaker.\\n\\nhttps://petropages.com/event/sapa-2026-midstream-open-golf-tournament/
URL:https://petropages.com/event/sapa-2026-midstream-open-golf-tournament/
END:VEVENT
END:VCALENDAR
