BEGIN:VCALENDAR
VERSION:2.0
PRODID:-//PP Calendar//WordPress//EN
CALSCALE:GREGORIAN
METHOD:PUBLISH
BEGIN:VEVENT
UID:a3065dd971b71215a58fd1526ad43607@petropages.com
DTSTAMP:20260422T021048Z
DTSTART:20260423T073000Z
DTEND:20260423T123000Z
SUMMARY:Houston Fall Prevention Alliance Event 2026
LOCATION:Gulf Coast\, HASC Auditorium\, 5213 Center St\, Pasadena\, TX
DESCRIPTION:Join the Houston Fall Prevention Alliance at the Health and Safety Council in Pasadena\, TX learn more information about guidance to help companies prepare for and effectively participate in the National Fall Safety Stand-Down (May 4-8).\\n\\n\\n\\nThe Houston Fall Prevention Alliance’s mission is to increase awareness and work to eliminate fall hazards on Houston-area job sites. The alliance is composed of ABC\, AGC\, ASA\, HASC\, IBR\, OSHA Houston Area Offices\, and UHCL.\\n\\nhttps://petropages.com/event/houston-fall-prevention-alliance-event-2026/
URL:https://petropages.com/event/houston-fall-prevention-alliance-event-2026/
END:VEVENT
END:VCALENDAR
