BEGIN:VCALENDAR
VERSION:2.0
PRODID:-//PP Calendar//WordPress//EN
CALSCALE:GREGORIAN
METHOD:PUBLISH
BEGIN:VEVENT
UID:70f5d5284985a2e98d811c230634271e@petropages.com
DTSTAMP:20260422T021429Z
DTSTART:20260430T170000Z
DTEND:20260430T200000Z
SUMMARY:Schafer’s Industry Night: Marley Cooling Tower Co. &#8211\; SPX Technologies
LOCATION:Gulf Coast\, Schafer’s Coastal Bar & Grille - 1002 Aspen Rd\, Clear Lake Shores\, TX 77565
DESCRIPTION:Schafer’s Coastal Bar &amp\; Grille will be hosting its Industry Night in the upstairs bar from 5:00pm to 8:00pm. This weeks event will be hosted by Marley Cooling Tower Company and SPX Technologies. Industry Night is a relaxed networking event focused on the oil &amp\; gas\, petrochemical\, and energy sectors where you can come and go as you please\, no registration required!\\n\\n\\n\\nSchafer’s Coastal Bar and Grille is an upscale sports bar located in Clear Lake Shores\, Texas. Schafer’s hosts Oil &amp\; Gas Industry Night\, every Thursday night in its upstairs bar\, providing an excellent place for professionals in the industry to connect and mingle.\\n\\nhttps://petropages.com/event/schafers-industry-night-marley-cooling-tower-co-spx-technologies/
URL:https://petropages.com/event/schafers-industry-night-marley-cooling-tower-co-spx-technologies/
END:VEVENT
END:VCALENDAR
