BEGIN:VCALENDAR
VERSION:2.0
PRODID:-//PP Calendar//WordPress//EN
CALSCALE:GREGORIAN
METHOD:PUBLISH
BEGIN:VEVENT
UID:05bdf56211e9fcb1ebc071b01b42972f@petropages.com
DTSTAMP:20260422T021429Z
DTSTART:20260427T083000Z
DTEND:20260427T160000Z
SUMMARY:6th Annual Barefoot Classic Golf Tournament
LOCATION:Gulf Coast\, South Shore Harbour Country Club\, 4300 South Shore Blvd\, League City\, TX 77573
DESCRIPTION:Schafer’s Coastal Bar &amp\; Grille will be hosting its 6th Annual Barefoot Classic Golf Tournament! Kick off your shoes\, wear your best Hawaiian print shirt\, and enjoy a relaxed day of golf and networking with fellow oil &amp\; gas professionals.\\n\\n\\n\\nEvent Highlights\\n\\n\\n\\n\\nCasual\, fun-focused golf with industry peers\\n\\n\\n\\nOutriggers Taco Truck serving breakfast and lunch and set up with the Platinum Sponsor throughout the event.\\n\\n\\n\\nLunch and awards ceremony after play\\n\\n\\n\\nBig raffle giveaway to close out the day\\n\\n\\n\\n\\nSchafer’s Coastal Bar and Grille is an upscale sports bar located in Clear Lake Shores\, Texas. Schafer’s hosts Oil &amp\; Gas Industry Night\, every Thursday night in its upstairs bar\, providing an excellent place for professionals in the industry to connect and mingle.\\n\\nhttps://petropages.com/event/6th-annual-barefoot-classic-golf-tournament/
URL:https://petropages.com/event/6th-annual-barefoot-classic-golf-tournament/
END:VEVENT
END:VCALENDAR
