BEGIN:VCALENDAR
VERSION:2.0
PRODID:-//PP Calendar//WordPress//EN
CALSCALE:GREGORIAN
METHOD:PUBLISH
BEGIN:VEVENT
UID:f5a57b6560d95913eb0177387a98d700@petropages.com
DTSTAMP:20260422T021429Z
DTSTART:20260428T083000Z
DTEND:20260430T170000Z
SUMMARY:28th Annual International Aboveground Storage Tank Conference &amp\; Trade Show
LOCATION:Florida\, Rosen Shingle Creek Hotel\, Orlando\, FL
DESCRIPTION:Join the National Institute for Storage Tank Management (NISTM) for its 28th Annual International Aboveground Storage Tank Conference &amp\; Trade Show in Orlando\, FL! This event will feature industry leaders\, decision-makers\, and top suppliers for 3 days of networking\, learning\, and many opportunities.\\n\\nhttps://petropages.com/event/28th-annual-international-aboveground-storage-tank-conference-trade-show/
URL:https://petropages.com/event/28th-annual-international-aboveground-storage-tank-conference-trade-show/
END:VEVENT
END:VCALENDAR
