BEGIN:VCALENDAR
VERSION:2.0
PRODID:-//PP Calendar//WordPress//EN
CALSCALE:GREGORIAN
METHOD:PUBLISH
BEGIN:VEVENT
UID:9a09c257b4869d244c64be9a230d4423@petropages.com
DTSTAMP:20260422T021450Z
DTSTART:20260422T070000Z
DTEND:20260422T140000Z
SUMMARY:East Texas Golf Tournament 2026
LOCATION:East Texas\, Tempest Golf Club - 568 East Wilkins Road\, Gladewater\, TX 75647
DESCRIPTION:Get your golf team or hole sponsorship registered to enjoy a fun day of networking on this beautiful course! Shotgun start begins at 9:00 AM!\\n\\n\\n\\nRoseland Oil &amp\; Gas organizes oil and gas Conventions\, Charity Cook Offs\, &amp\; Tournaments with industrial companies in mind!\\n\\nhttps://petropages.com/event/east-texas-golf-tournament-2026/
URL:https://petropages.com/event/east-texas-golf-tournament-2026/
END:VEVENT
END:VCALENDAR
